BEGIN:VCALENDAR
VERSION:2.0
PRODID:-//TotalExpo.ru v1.0//EN
BEGIN:VEVENT
DTSTAMP:20260624T120000
DTSTART:20260624T070000Z
DTEND:20260626T140000Z
SUMMARY:Fastener Expo Shanghai 2026 (Шанхай, Китай)
DESCRIPTION:Fastener Expo Shanghai – одна из трех крупнейших выставок в мире и ведущая выставка крепежных изделий в Азии.<br/> Более 600 экспонентов представят новейшие разработки, нестандартные детали, крепежные изделия для промышленного применения, технологии и оборудование для изготовления крепежных изделий, пресс-формы и расходные материалы, сырье, а также соответствующие технологии и оборудование, которые охватывают все аспекты индустрии крепежей.
LOCATION:National Exhibition and Convention Center (NEСC) (Китай, Шанхай)
END:VEVENT
END:VCALENDAR