BEGIN:VCALENDAR
VERSION:2.0
PRODID:-//TotalExpo.ru v1.0//EN
BEGIN:VEVENT
DTSTAMP:20260615T120000
DTSTART:20260615T070000Z
DTEND:20260617T140000Z
SUMMARY:Hi &amp; Fi Asia-China 2026 (Шанхай, Китай)
DESCRIPTION:На выставке представят функциональные пищевые ингредиенты, нутрицевтики, готовые полезные продукты питания, крахмал и производные крахмала, а также оборудование для упаковки и переработки.<br/> В совокупности выставки займут пять залов, которые вместе составят единственное мероприятие такого масштаба в Китае, охватывающее товары и услуги для всей цепочки, от сырья до готовых продуктов здорового питания.
LOCATION:National Exhibition and Convention Center (NEСC) (Китай, Шанхай)
END:VEVENT
END:VCALENDAR