BEGIN:VCALENDAR
VERSION:2.0
PRODID:-//TotalExpo.ru v1.0//EN
BEGIN:VEVENT
DTSTAMP:20261028T120000
DTSTART:20261028T070000Z
DTEND:20261030T140000Z
SUMMARY:PCE – Shanghai International Personal Care Expo 2026 (Шанхай, Китай)
DESCRIPTION:Выставка охватывает 4 основных направления: Уход за полостью рта, Технологии очистки, Уход за кожей, Личная гигиена.
LOCATION:Shanghai New International Expo Centre (Китай, Шанхай)
END:VEVENT
END:VCALENDAR