BEGIN:VCALENDAR
VERSION:2.0
PRODID:-//TotalExpo.ru v1.0//EN
BEGIN:VEVENT
DTSTAMP:20260715T120000
DTSTART:20260715T070000Z
DTEND:20260717T140000Z
SUMMARY:Licensing Expo China 2026 (Шанхай, Китай)
DESCRIPTION:Выставка лицензирования, объединяющая на одной площадке владельцев ведущих мировых брендов всех товарных категорий, производителей, ритейлеров и лицензиатов. Это место встречи представителей глобальной индустрии лицензирования, дающая возможность проследить новые тенденции, основать стратегическое партнерство и укрепить деловые связи.<br/> На выставке будут представлены более 5 тысяч брендов, для удобства они будут разделены на зоны Герои и развлечения, Искусство и дизайн, Мода и лайфстайл, Производство. 
LOCATION:National Exhibition and Convention Center (NEСC) (Китай, Шанхай)
END:VEVENT
END:VCALENDAR