BEGIN:VCALENDAR
VERSION:2.0
PRODID:-//TotalExpo.ru v1.0//EN
BEGIN:VEVENT
DTSTAMP:20260716T120000
DTSTART:20260716T070000Z
DTEND:20260719T140000Z
SUMMARY:Photo &amp; Imaging Shanghai 2026 (Шанхай, Китай)
DESCRIPTION:Ведущая международная выставка в Азии, посвященная фотографии и обработке изображений.<br/>На выставке будут представлены инновации в сфере фото и изображений, а также весь спектр продуктов и технологий, начиная от ввода, обработки и хранения до вывода изображений. 
LOCATION:Shanghai New International Expo Centre (Китай, Шанхай)
END:VEVENT
END:VCALENDAR