BEGIN:VCALENDAR
VERSION:2.0
PRODID:-//TotalExpo.ru v1.0//EN
BEGIN:VEVENT
DTSTAMP:20260626T120000
DTSTART:20260626T070000Z
DTEND:20260628T140000Z
SUMMARY:CSF - China Stationery Fair 2026 (Шанхай, Китай)
DESCRIPTION:Международная выставка канцтоваров. На выставке будут представлены: канцтовары для офиса, школы; офисное оборудование; бумага и полиграфическая продукция; расходные материалы для офисной техники; подарочные канцтовары; компьютерная техника, аксессуары. 
LOCATION:Shanghai New International Expo Centre (Китай, Шанхай)
END:VEVENT
END:VCALENDAR