BEGIN:VCALENDAR
VERSION:2.0
PRODID:-//TotalExpo.ru v1.0//EN
BEGIN:VEVENT
DTSTAMP:20260520T120000
DTSTART:20260520T070000Z
DTEND:20260522T140000Z
SUMMARY:International Fastener Show China 2026 (Шанхай, Китай)
DESCRIPTION:International Fastener Show China – одна из крупнейших выставок крепежных изделий и оборудования в мире. Посетители выставки смогут пообщаться напрямую с международными лидерами отрасли, получить исчерпывающую информацию о тенденциях и развитии индустрии, а также наладить контакты с участниками рынка со всего мира.
LOCATION:Shanghai World Expo Ehibition and Convention Center (Китай, Шанхай)
END:VEVENT
END:VCALENDAR