BEGIN:VCALENDAR
VERSION:2.0
PRODID:-//TotalExpo.ru v1.0//EN
BEGIN:VEVENT
DTSTAMP:20260722T120000
DTSTART:20260722T070000Z
DTEND:20260724T140000Z
SUMMARY:IPB - International Powder &amp; Bulk Solids Processing Conference&amp; Exhibition 2026 (Шанхай, Китай)
DESCRIPTION:IPB - это крупнейшая, специализированная международная выставка и конференция, посвященная производству и обработке порошковых и сыпучих материалов.
LOCATION:Shanghai World Expo Ehibition and Convention Center (Китай, Шанхай)
END:VEVENT
END:VCALENDAR