BEGIN:VCALENDAR
VERSION:2.0
PRODID:-//TotalExpo.ru v1.0//EN
BEGIN:VEVENT
DTSTAMP:20260609T120000
DTSTART:20260609T070000Z
DTEND:20260611T140000Z
SUMMARY:CityBus 2026 (Москва, Россия)
DESCRIPTION:Российский автобусный салон CityBus представляет автобусы и микроавтобусы для городских и пригородных маршрутов, проводится одновременно с выставкой «ЭлектроТранс» в рамках Российской недели общественного транспорта.
LOCATION:ВДНХ (Выставка достижений народного хозяйства) (Россия, Москва)
END:VEVENT
END:VCALENDAR