BEGIN:VCALENDAR
VERSION:2.0
PRODID:-//TotalExpo.ru v1.0//EN
BEGIN:VEVENT
DTSTAMP:20270401T120000
DTSTART:20270401T070000Z
DTEND:20270430T140000Z
SUMMARY:MICE FORUM SOCHI 2027 (Сочи, Россия)
DESCRIPTION:Ежегодный форум для специалистов индустрии встреч, на котором собираются лидеры сферы MICE для заключения выгодных контрактов и обсуждения актуальных вопросов развития отрасли. В программе мероприятия: мастер-классы от экспертов и выступления нескольких десятков ведущих спикеров, 9 зон нетворкинга, выставка поставщиков услуг, а также богатая культурная программа.
LOCATION:площадка уточняется (Россия, Сочи)
END:VEVENT
END:VCALENDAR