BEGIN:VCALENDAR
VERSION:2.0
PRODID:-//TotalExpo.ru v1.0//EN
BEGIN:VEVENT
DTSTAMP:20260908T120000
DTSTART:20260908T070000Z
DTEND:20260910T140000Z
SUMMARY:AgroFarm Middle East 2026 (Дубай, ОАЭ)
DESCRIPTION:Крупная выставка, посвященная животноводству. Охватывает все сегменты отрасли, включая производство молочной продукции, свиноводство, крупный рогатый скот, птицеводство, овцеводство, рыбное хозяйство, пчеловодство и т.д.
LOCATION:Dubai World Trade Centre (ОАЭ, Дубай)
END:VEVENT
END:VCALENDAR