BEGIN:VCALENDAR
VERSION:2.0
PRODID:-//TotalExpo.ru v1.0//EN
BEGIN:VEVENT
DTSTAMP:20260520T120000
DTSTART:20260520T070000Z
DTEND:20260523T140000Z
SUMMARY:Bakery China Spring 2026 (Шанхай, Китай)
DESCRIPTION:Международная выставка для пекарен и кондитерской промышленности. Крупная выставка в данной области, привлекающая 930 участников и 65 000 посетителей. На выставке будет представлен полный ассортимент продукции хлебобулочной и кондитерской промышленности.
LOCATION:National Exhibition and Convention Center (NEСC) (Китай, Шанхай)
END:VEVENT
END:VCALENDAR