BEGIN:VCALENDAR
VERSION:2.0
PRODID:-//TotalExpo.ru v1.0//EN
BEGIN:VEVENT
DTSTAMP:20261029T120000
DTSTART:20261029T070000Z
DTEND:20261031T140000Z
SUMMARY:Учебная Сибирь 2026 (Новосибирск, Россия)
DESCRIPTION:Крупнейшая на территории Сибири и Дальнего Востока Форум-выставка об образовании, профориентации и подготовке кадров. Главная тема выставки – профориентация. Площадка будет разделена на профориентационные кластеры: инженерия, информационные технологии, юриспруденция/экономика/ бизнес и финансы, транспорт, медицина, строительство, кулинария, туризм и гостеприимство, педагогика и образование, легкая промышленность, сфера услуг, культура и искусство, агро.
LOCATION:Новосибирск Экспоцентр (Россия, Новосибирск)
END:VEVENT
END:VCALENDAR