BEGIN:VCALENDAR
VERSION:2.0
PRODID:-//TotalExpo.ru v1.0//EN
BEGIN:VEVENT
DTSTAMP:20260421T120000
DTSTART:20260421T070000Z
DTEND:20260423T140000Z
SUMMARY:BEAUTY TREND 2026 (Алма-Ата, Казахстан)
DESCRIPTION:Съезд поставщиков профессиональной продукции для косметологии. С 2017 года проходит  только в В2В формате, где участники экспозиции - поставщики профессиональных марок, а целевая аудитория посетителей - специалисты косметологической отрасли. <br/>
В рамках съезда ежегодно проходит выставка, представляющая профессиональную уходовую и лечебную косметику, SPA-продукты, ИМН, лазеры, косметологическое оборудование. <br/>
Специалисты в области косметологии, дерматологии, эстетической медицины, врачи-трихологи, а также руководители клиник и салонов красоты могут принять участие в образовательной программе «Школа Косметологов». Слушателям будут представлены доклады и мастер-классы специалистов отрасли по инъекционным, аппаратным и лазерным методикам, уходовые и лечебные продукты в протоколах процедур.

LOCATION:FORUM, ТРЦ (Казахстан, Алма-Ата)
END:VEVENT
END:VCALENDAR