BEGIN:VCALENDAR
VERSION:2.0
PRODID:-//TotalExpo.ru v1.0//EN
BEGIN:VEVENT
DTSTAMP:20260624T120000
DTSTART:20260624T070000Z
DTEND:20260624T140000Z
SUMMARY:Выставка франшиз в Краснодаре 2026 (Краснодар, Россия)
DESCRIPTION:Выставка-конференция «Франчайзинг в регионы», единое сетевое  мероприятие. В течении года проводится в разных городах России и СНГ. Основная цель проекта - продвижение российских брендов и развитие предпринимательства на региональном уровне.<br/> Среди постоянных участников выставки более 20 компаний, предлагающих франшизы в сфере продаж товаров народного потребления, одежды и обувь, продуктов питания и слабоалкогольных напитков. Предприятия, специализирующиеся на производстве товаров для ЗОЖ. Организации, ведущие деятельность в области логистических, транспортных, архитектурно-строительных и информационных услуг. Список предприятий, предлагающих бизнес-франшизы постоянно трансформируется с учетом потребности регионального рынка. <br/>В рамках выставки состоятся мастер-классы, доклады экспертов и консультации юристов.
LOCATION:Hampton by Hilton Krasnodar (Россия, Краснодар)
END:VEVENT
END:VCALENDAR