BEGIN:VCALENDAR
VERSION:2.0
PRODID:-//TotalExpo.ru v1.0//EN
BEGIN:VEVENT
DTSTAMP:20260512T120000
DTSTART:20260512T070000Z
DTEND:20260514T140000Z
SUMMARY:GETCA 2026 (Ташкент, Узбекистан)
DESCRIPTION:GETCA – Green Energy Technology Central Asia - мероприятие для тех, кто строит завтрашний безуглеродный мир! Выставка ежегодно собирает представителей всех секторов ВИЭ на одной площадке, и является прекрасной возможностью пополнить свои знания в данной сфере, узнать, какие проблемы и возможности ждут сектор.<br/>Вы ищете инновационные решения в области энергетики и ВИЭ? Тогда GETCA – Green Energy Technology Central Asia в Ташкенте – это мероприятие точно для вас. Кроме того, обширная программа мероприятий выставки ознакомит участников с большим массивом современных знаний.
LOCATION:Central Asian Expo Uzbekistan (CAEx) (Узбекистан, Ташкент)
END:VEVENT
END:VCALENDAR