BEGIN:VCALENDAR
VERSION:2.0
PRODID:-//TotalExpo.ru v1.0//EN
BEGIN:VEVENT
DTSTAMP:20260605T120000
DTSTART:20260605T070000Z
DTEND:20260614T140000Z
SUMMARY:Сибирь православная 2026 (Красноярск, Россия)
DESCRIPTION:Ежегодная церковно-общественная выставка-ярмарка. Выставка помогает объединить усилия Русской Православной Церкви, светской власти и общественности по сохранению и развитию традиционных духовных ценностей отечественной культуры, искусства и нравственности, рассказывает о богатых православных традициях и праздниках, об интереснейшей истории монастырей и соборов Красноярского края и других регионов России; способствует духовному и нравственному воспитанию младшего поколения; представляет многообразие и красоту икон и церковной утвари, глубину православной литературы. На выставке «Сибирь православная» храмы и монастыри смогут обрести помощников и благотворителей, специалисты – найти партнеров, общественные и церковные организации – вовлечь все больше людей в социальные, просветительские и благотворительные программы. Ежедневно посетители смогут посоветоваться с духовными лицами, задать свои вопросы. 
LOCATION:Сибирь, МВДЦ (Россия, Красноярск)
END:VEVENT
END:VCALENDAR