BEGIN:VCALENDAR
VERSION:2.0
PRODID:-//TotalExpo.ru v1.0//EN
BEGIN:VEVENT
DTSTAMP:20260422T120000
DTSTART:20260422T070000Z
DTEND:20260424T140000Z
SUMMARY:SOLARTECH Indonesia 2026 (Джакарта, Индонезия)
DESCRIPTION:Выставка солнечной энергетики и фотовольтаики. Свою продукцию и услуги представят более 650 компаний из двух десятков стран мира. 
LOCATION:Jakarta International Expo (Индонезия, Джакарта)
END:VEVENT
END:VCALENDAR