BEGIN:VCALENDAR
VERSION:2.0
PRODID:-//TotalExpo.ru v1.0//EN
BEGIN:VEVENT
DTSTAMP:20260422T120000
DTSTART:20260422T070000Z
DTEND:20260424T140000Z
SUMMARY:Smart IoT Indonesia 2026 (Джакарта, Индонезия)
DESCRIPTION:Выставка и конференция, посвященные Интернету-вещей. Объединяет на одной площадке разработчиков, производителей, провайдеров и потребителей. В рамках деловой программы обсуждаются актуальные темы, связанные с внедрением Интернета вещей в различные сферы жизни, вопросы регулирования и т.п.
LOCATION:Jakarta International Expo (Индонезия, Джакарта)
END:VEVENT
END:VCALENDAR