BEGIN:VCALENDAR
VERSION:2.0
PRODID:-//TotalExpo.ru v1.0//EN
BEGIN:VEVENT
DTSTAMP:20260422T120000
DTSTART:20260422T070000Z
DTEND:20260424T140000Z
SUMMARY:Smart Home+City Indonesia 2026 (Джакарта, Индонезия)
DESCRIPTION:Выставка решений и технологий в сфере создания умных домов, умных офисов и умных городов. Экспозиция охватывает инновационные разработки для систем управления домами и офисными зданиями, городской инфраструктурой, системами связи и энергоснабжения, включая технологии IoT, big data, облачные системы, видеонаблюдение, биометрию, и т.д.
LOCATION:Jakarta International Expo (Индонезия, Джакарта)
END:VEVENT
END:VCALENDAR