BEGIN:VCALENDAR
VERSION:2.0
PRODID:-//TotalExpo.ru v1.0//EN
BEGIN:VEVENT
DTSTAMP:20260520T120000
DTSTART:20260520T070000Z
DTEND:20260522T140000Z
SUMMARY:Forklift Indonesia 2026 (Джакарта, Индонезия)
DESCRIPTION:Выставка погрузчиков, грузоподъемного оборудования, аксессуаров, технологий и услуг. Участниками станут более 300 компаний, ожидается свыше 15000 посетителей-специалистов.
LOCATION:Jakarta International Expo (Индонезия, Джакарта)
END:VEVENT
END:VCALENDAR