BEGIN:VCALENDAR
VERSION:2.0
PRODID:-//TotalExpo.ru v1.0//EN
BEGIN:VEVENT
DTSTAMP:20260520T120000
DTSTART:20260520T070000Z
DTEND:20260522T140000Z
SUMMARY:Busworld South East Asia 2026 (Джакарта, Индонезия)
DESCRIPTION:Busworld – крупнейшая в мире B2B выставка индустрии автобусов, демонстрирующая различные виды автобусов (городские, туристические, микроавтобусы), а также автобусные компоненты и сопутствующие товары и услуги. Впервые салон состоялся в 1971 году в городе Кортрейк (Бельгия). С 2001 выставка Busworld вышла за пределы Европы и стала проводиться также в Турции, Китае, Индии, а также в России.
LOCATION:Jakarta International Expo (Индонезия, Джакарта)
END:VEVENT
END:VCALENDAR