BEGIN:VCALENDAR
VERSION:2.0
PRODID:-//TotalExpo.ru v1.0//EN
BEGIN:VEVENT
DTSTAMP:20260520T120000
DTSTART:20260520T070000Z
DTEND:20260522T140000Z
SUMMARY:MinTech - Усть-Каменогорск 2026 (Усть-Каменогорск, Казахстан)
DESCRIPTION:Международный выставочный проект «MinTech» проводится с 2003 года и является одним из значимых и ожидаемых событий горно-металлургической и угольной отрасли в крупнейших промышленных регионах Казахстана. Цель проекта – прямые контакты специалистов отрасли из регионов с представителями мировых компаний, производителей оборудования и технологий, а также дальнейшее расширение и укрепление торгово-экономических связей регионов Казахстана 
LOCATION:Дворец спорта имени Б. Александрова (Казахстан, Усть-Каменогорск)
END:VEVENT
END:VCALENDAR