BEGIN:VCALENDAR
VERSION:2.0
PRODID:-//TotalExpo.ru v1.0//EN
BEGIN:VEVENT
DTSTAMP:20261124T120000
DTSTART:20261124T070000Z
DTEND:20261125T140000Z
SUMMARY:Международный банковский форум / IBF 2026 (Баку, Азербайджан)
DESCRIPTION:Цель форума – стать платформой для обсуждения таких тем, как предстоящие вызовы безналичной экономики, цифровизация, текущая ситуация в сфере финансовых технологий, новые и будущие тренды, современные банковские продукты, новшества и риски в сфере комплаенса, а также возможности адаптации перечисленного под существующие юридические нормы, влияние этих процессов на усиление финансовой устойчивости банков, а также других тем.<br/> Форум состоящий из трех панелей, обхватит такие темы как «Новый этап трансформации банковской деятельности», «Автоматизация процессов и наблюдения в банках по AML/KYC», «Правовое регулирование цифрового банка и правовые риски». 
LOCATION:Baku Marriott Hotel Boulevard (Азербайджан, Баку)
END:VEVENT
END:VCALENDAR