BEGIN:VCALENDAR
VERSION:2.0
PRODID:-//TotalExpo.ru v1.0//EN
BEGIN:VEVENT
DTSTAMP:20261030T120000
DTSTART:20261030T070000Z
DTEND:20261101T140000Z
SUMMARY:Comic Con Игромир 2026 (Москва, Россия)
DESCRIPTION:Событие, где стираются границы между кино, играми, комиксами и косплеем — сюжеты и герои из всех миров сходятся в одной реальности, чтобы создавать новые. Громкие релизы и анонсы от создателей разных франшиз, киберспорт и шоу-матчи, новинки настольных игр и аллея авторов, автограф-сессии и новости от главных звёзд контентных вселенных — всё, что формирует поп-культуру прямо сейчас.
LOCATION:Тимирязев Центр (Россия, Москва)
END:VEVENT
END:VCALENDAR