BEGIN:VCALENDAR
VERSION:2.0
PRODID:-//TotalExpo.ru v1.0//EN
BEGIN:VEVENT
DTSTAMP:20260806T120000
DTSTART:20260806T070000Z
DTEND:20260808T140000Z
SUMMARY:ProPack 2026 (Хошимин, Вьетнам)
DESCRIPTION:Выставка технологий и оборудования для пищевой переработки и упаковки. Проходит одновременно с выставкой пищевой индустрии Vietfood &amp; Beverage.
LOCATION:Saigon Exhibition & Convention Center (Вьетнам, Хошимин)
END:VEVENT
END:VCALENDAR