BEGIN:VCALENDAR
VERSION:2.0
PRODID:-//TotalExpo.ru v1.0//EN
BEGIN:VEVENT
DTSTAMP:20261110T120000
DTSTART:20261110T070000Z
DTEND:20261112T140000Z
SUMMARY:ProWine Shanghai 2026 (Шанхай, Китай)
DESCRIPTION:Ведущая в Китае специализированная выставка вин и крепких алкогольных напитков. На одной площадке собираются производители, дистрибьюторы, поставщики оборудования из четырех десятков стран мира. Ежегодно выставку посещают около 15000 профессионалов.
LOCATION:Shanghai New International Expo Centre (Китай, Шанхай)
END:VEVENT
END:VCALENDAR