BEGIN:VCALENDAR
VERSION:2.0
PRODID:-//TotalExpo.ru v1.0//EN
BEGIN:VEVENT
DTSTAMP:20260828T120000
DTSTART:20260828T070000Z
DTEND:20260830T140000Z
SUMMARY:ЗооЭкспоУфа 2026 (Уфа, Россия)
DESCRIPTION:Специализированная выставка зооиндустрии. ЗооЭкспоУфа - это возможность в одно время и в одном месте найти поставщиков и партнеров, посмотреть новинки, реализовать широкий ассортимент высококачественной продукции для содержания, обучения и лечения животных, заключить договоры на поставки.
LOCATION:Выставочный комплекс «ЭКСПО» (Россия, Уфа)
END:VEVENT
END:VCALENDAR