BEGIN:VCALENDAR
VERSION:2.0
PRODID:-//TotalExpo.ru v1.0//EN
BEGIN:VEVENT
DTSTAMP:20260520T120000
DTSTART:20260520T070000Z
DTEND:20260522T140000Z
SUMMARY:Всероссийский водный конгресс 2026 (Москва, Россия)
DESCRIPTION:Всероссийский водный конгресс посвящен обсуждению направлений модернизации водного хозяйства России и всех отраслей водопользования с учетом современных экологических вызовов, потребностей в новых технологиях, моделях управления и финансирования. В рамках деловой программы состоятся тематические секции по развитию водного транспорта и туризма, эффективного использования воды в топливно-энергетическом, аграрном и промышленном комплексах, в атомной отрасли, сельском и коммунальном хозяйстве, пройдут обсуждения территориальных водных проблем в федеральных округах Российской Федерации. Отдельное внимание будет уделено защите реки Волга и озера Байкал, а также совершенствованию экологического законодательства в части охраны водных объектов.
LOCATION:Гостиный Двор (Россия, Москва)
END:VEVENT
END:VCALENDAR