BEGIN:VCALENDAR
VERSION:2.0
PRODID:-//TotalExpo.ru v1.0//EN
BEGIN:VEVENT
DTSTAMP:20260217T120000
DTSTART:20260217T070000Z
DTEND:20260219T140000Z
SUMMARY:Textile Salon 2026 (Москва, Россия)
DESCRIPTION:Экспозиция Textile Salon – это выставка качественных тканей и фурнитуры для производства одежды, которая проходит в формате деловых встреч.
LOCATION:МВЦ Крокус Экспо (Россия, Москва)
END:VEVENT
END:VCALENDAR