BEGIN:VCALENDAR
VERSION:2.0
PRODID:-//TotalExpo.ru v1.0//EN
BEGIN:VEVENT
DTSTAMP:20260624T120000
DTSTART:20260624T070000Z
DTEND:20260626T140000Z
SUMMARY:Международный авиационный инновационный форум / МАИФ 2026 (Санкт-Петербург, Россия)
DESCRIPTION:В рамках форума пройдут тематические сессии, включающие обмен опытом использования инновационных решений и программных продуктов в деятельности аэропортов и авиакомпаний, и выставка компаний-партнеров для предприятий авиационной отрасли. Форум ориентирован на руководящий состав авиапредприятий и специалистов в сфере авиации и IT.
LOCATION:Пулково-2 (Россия, Санкт-Петербург)
END:VEVENT
END:VCALENDAR