BEGIN:VCALENDAR
VERSION:2.0
PRODID:-//TotalExpo.ru v1.0//EN
BEGIN:VEVENT
DTSTAMP:20260703T120000
DTSTART:20260703T070000Z
DTEND:20260705T140000Z
SUMMARY:ISPO Shanghai 2026 (Шанхай, Китай)
DESCRIPTION:Международная выставка спортивных товаров: для летних видов спорта, спорта на открытом воздухе, велосипедного спорта; спортивная одежда и аксессуары.
LOCATION:Shanghai New International Expo Centre (Китай, Шанхай)
END:VEVENT
END:VCALENDAR