BEGIN:VCALENDAR
VERSION:2.0
PRODID:-//TotalExpo.ru v1.0//EN
BEGIN:VEVENT
DTSTAMP:20260624T120000
DTSTART:20260624T070000Z
DTEND:20260626T140000Z
SUMMARY:Mobile World Congress Shanghai 2026 (Шанхай, Китай)
DESCRIPTION:Крупнейшее международное событие в сфере мобильных технологий и мобильной связи. Выставка и форум объединяют на одной площадке более 600 компаний из ста стран мира, представляющих самые современные продукты и технологии, связанные с мобильной связью и всевозможными сферами ее применения. В качестве спикеров на форуме выступят лидеры отрасли, а участники выставки представят инновационные продукты и услуги в таких тематических разделах, как: мобильные устройства, искусственный интеллект, автомобильные технологии, Интернет вещей.
LOCATION:Shanghai New International Expo Centre (Китай, Шанхай)
END:VEVENT
END:VCALENDAR