BEGIN:VCALENDAR
VERSION:2.0
PRODID:-//TotalExpo.ru v1.0//EN
BEGIN:VEVENT
DTSTAMP:20261020T120000
DTSTART:20261020T070000Z
DTEND:20261022T140000Z
SUMMARY:Российский конгресс лабораторной медицины 2026 (Москва, Россия)
DESCRIPTION:Российский конгресс лабораторной медицины – крупнейшее профессиональное событие. Ожидаемое количество делегатов – около 8500. В их числе: специалисты клинической лабораторной диагностики, заведующие лабораториями, ведущие представители различных клинических направлений (кардиологи, инфекционисты, эпидемиологи, гинекологи, урологи, и т. д.), ведущие ученые (отечественные и иностранные), руководители лечебно-профилактических учреждений и органов управления здравоохранением различных регионов России, а также экономисты и социологи.<br/>В рамках Конгресса пройдет Международная выставка «Лабораторный город». Выставка объединит около 150 компаний - ведущих российских и зарубежных производителей и поставщиков лабораторного оборудования и расходных материалов, стенды которых размещены на улицах «Лабораторного города», названных в честь известных ученых, внесших большой вклад в мировую лабораторную медицину. 
LOCATION:МВЦ Крокус Экспо (Россия, Москва)
END:VEVENT
END:VCALENDAR