BEGIN:VCALENDAR
VERSION:2.0
PRODID:-//TotalExpo.ru v1.0//EN
BEGIN:VEVENT
DTSTAMP:20260813T120000
DTSTART:20260813T070000Z
DTEND:20260817T140000Z
SUMMARY:HKTDC Beauty &amp; Wellness Expo 2026 (Гонконг, Китай)
DESCRIPTION:Специализированная выставка индустрии красоты. 
LOCATION:Hong Kong Convention & Exhibition Centre (Китай, Гонконг)
END:VEVENT
END:VCALENDAR