BEGIN:VCALENDAR
VERSION:2.0
PRODID:-//TotalExpo.ru v1.0//EN
BEGIN:VEVENT
DTSTAMP:20260423T120000
DTSTART:20260423T070000Z
DTEND:20260423T140000Z
SUMMARY:PharmPRO / ФармПРО 2026 (Москва, Россия)
DESCRIPTION:Международный фармацевтический форум ФармПРО (ФАРМАПАК) - это территория практики и экспертизы, где в один день в одном месте встречаются производители ЛП и БАД, дистрибьюторы, аптечные сети и эксперты рынка.
LOCATION:Сафмар Грандъ Москва (Россия, Москва)
END:VEVENT
END:VCALENDAR