BEGIN:VCALENDAR
VERSION:2.0
PRODID:-//TotalExpo.ru v1.0//EN
BEGIN:VEVENT
DTSTAMP:20261014T120000
DTSTART:20261014T070000Z
DTEND:20261016T140000Z
SUMMARY:Образование и Технологии обучения – Ta’limExpo / ISUE 2026 (Ташкент, Узбекистан)
DESCRIPTION:B2B-событие, ориентированное на организацию прямых встреч между учебными учреждениями, EdTech-компаниями, поставщиками решений в сфере образования и конечными потребителями. Выставка объединит весь образовательный путь: от раннего развития и школьного обучения до профессиональной подготовки и карьерного развития, международных программ, EdTech-решений.
LOCATION:НВК «Узэкспоцентр» (Узбекистан, Ташкент)
END:VEVENT
END:VCALENDAR