BEGIN:VCALENDAR
VERSION:2.0
PRODID:-//TotalExpo.ru v1.0//EN
BEGIN:VEVENT
DTSTAMP:20261105T120000
DTSTART:20261105T070000Z
DTEND:20261110T140000Z
SUMMARY:China International Import Expo / CIIE 2026 (Шанхай, Китай)
DESCRIPTION:Крупная торговая многоотраслевая выставка. На площадке мероприятия разместятся комплексная выставочная зона государственной торговли и инвестиций и выставочная зона для предприятий и бизнеса. В период проведения выставки также пройдет международный торговый форум «Хунцяо» (Радужный мост), планируется организация двусторонних встреч для обсуждения потребностей и запросов рынка, отраслевых семинаров, презентаций продуктов и ряда других специальных комплексных мероприятий.<br/>В зоне государственной торговли планируется проведение мероприятий, описывающих положение дел в сфере торговли и инвестиций, включая товарную торговлю, сферу обслуживания, производственную отрасль, инвестиции в туризм, а также уникальные и отличительные продукты из разных стран. 
LOCATION:National Exhibition and Convention Center (NEСC) (Китай, Шанхай)
END:VEVENT
END:VCALENDAR