BEGIN:VCALENDAR
VERSION:2.0
PRODID:-//TotalExpo.ru v1.0//EN
BEGIN:VEVENT
DTSTAMP:20260416T120000
DTSTART:20260416T070000Z
DTEND:20260422T140000Z
SUMMARY:Православная Русь Санкт-Петербург 2026 (Санкт-Петербург, Россия)
DESCRIPTION:Выставка дает уникальную возможность познакомиться с плодами духовных и земных трудов более 150 экспонентов - храмов, издательств, мастерских, паломнических служб, а также светских организаций, связанных своей деятельностью с Русской Православной Церковью. Посетители могут совершить своеобразное паломничество и подать записки в российские и зарубежные святые места, что особенно важно, учитывая темп жизни современных людей. На выставке можно побеседовать со священниками и иноками монастырей, окунуться в атмосферу православной культуры, быта, приобрести книги, иконы, натуральные продукты, лекарственные травы, мед, изделия из природных материалов – шерсти, льна, хлопка, дерева, бересты. Выставку сопровождают духовно-просветительская программа, концерты, кинопоказы.
LOCATION:ДК Кирова (Россия, Санкт-Петербург)
END:VEVENT
END:VCALENDAR