BEGIN:VCALENDAR
VERSION:2.0
PRODID:-//TotalExpo.ru v1.0//EN
BEGIN:VEVENT
DTSTAMP:20260520T120000
DTSTART:20260520T070000Z
DTEND:20260521T140000Z
SUMMARY:Азот Синтезгаз Россия и СНГ 2026 (Москва, Россия)
DESCRIPTION:Конгресс и выставка, посвященные вопросам производства метанола, аммиака, карбамида, водорода, азота, а также их продуктов и азотных удобрений. Мероприятие объединит на одной площадке представителей крупнейших производственных предприятий, поставщиков технологий, органов власти и инвесторов России, СНГ и Европы. На мероприятии будет представлено более 60 инвестиционных проектов по производству метанола, аммиака, водорода, азота, карбамида и их продуктов, а также азотных удобрений со сроком реализации 2018-2025 гг. со всех регионов России.
LOCATION:Балчуг Кемпински (Россия, Москва)
END:VEVENT
END:VCALENDAR