BEGIN:VCALENDAR
VERSION:2.0
PRODID:-//TotalExpo.ru v1.0//EN
BEGIN:VEVENT
DTSTAMP:20260525T120000
DTSTART:20260525T070000Z
DTEND:20260527T140000Z
SUMMARY:AQUASTOP 2026 (Санкт-Петербург, Россия)
DESCRIPTION:Международная выставка и конференция &amp;laquo;ГИДРОИЗОЛЯЦИЯ ПОДЗЕМНЫХ И ЗАГЛУБЛЕННЫХ СООРУЖЕНИЙ&amp;raquo;. Конференция «AQUASTOP» проводится с 2001 года. За это время мероприятие стало авторитетной площадкой для обмена информацией в области гидроизоляции и обеспечения герметичности сооружений и установления новых деловых контактов между специалистами отрасли. На одной площадке с конференцией пройдет Выставка, которая является единственным специализированным мероприятием в России по тематике гидроизоляционных материалов и технологий.
LOCATION:Olympia Garden Hotel (Россия, Санкт-Петербург)
END:VEVENT
END:VCALENDAR