BEGIN:VCALENDAR
VERSION:2.0
PRODID:-//TotalExpo.ru v1.0//EN
BEGIN:VEVENT
DTSTAMP:20261002T120000
DTSTART:20261002T070000Z
DTEND:20261002T140000Z
SUMMARY:Research Expo 2026 (Москва, Россия)
DESCRIPTION:Выставка решений, методик и технологий для маркетинговых исследований. Среди основных тем: удовлетворенность клиентов, мобильные технологии, Big Data, управление брендом, Web-аналитика, тестирование рекламы, краудсорсинг, и многое другое. Посетителей ждет профессиональное общение, информация о продуктах и тестирование новинок, мастер-классы о современных методиках и технологиях в исследовательской индустрии, тестирование программного обеспечения и оборудования для исследований. 
LOCATION:Центр Международной Торговли (ЦМТ) (Россия, Москва)
END:VEVENT
END:VCALENDAR