BEGIN:VCALENDAR
VERSION:2.0
PRODID:-//TotalExpo.ru v1.0//EN
BEGIN:VEVENT
DTSTAMP:20260425T120000
DTSTART:20260425T070000Z
DTEND:20260426T140000Z
SUMMARY:Навигатор Поступления 2026 (Санкт-Петербург, Россия)
DESCRIPTION:Образовательный форум, собирающий на одной площадке лучшие ВУЗы России и мира. Посетителей ждут уникальные мастер-классы и лекции по ЕГЭ и ОГЭ, поступлению на бюджет, профессиям, индивидуальные консультации с экспертами по поступлению. Старшеклассники смогут определиться с выбором профессии.
LOCATION:Cosmos Saint-Petersburg Pribaltiyskaya Hotel (Россия, Санкт-Петербург)
END:VEVENT
END:VCALENDAR