BEGIN:VCALENDAR
VERSION:2.0
PRODID:-//TotalExpo.ru v1.0//EN
BEGIN:VEVENT
DTSTAMP:20261224T120000
DTSTART:20261224T070000Z
DTEND:20261230T140000Z
SUMMARY:ПОДАРКИ К НОВОМУ ГОДУ 2026 (Санкт-Петербург, Россия)
DESCRIPTION:Сувенирно-подарочная продукция, новогодняя атрибутика, изделия народных художественных промыслов, авторская одежда и аксессуары, продукты к праздничному столу 
LOCATION:Forum, ТК (Россия, Санкт-Петербург)
END:VEVENT
END:VCALENDAR