BEGIN:VCALENDAR
VERSION:2.0
PRODID:-//TotalExpo.ru v1.0//EN
BEGIN:VEVENT
DTSTAMP:20260427T120000
DTSTART:20260427T070000Z
DTEND:20260429T140000Z
SUMMARY:Asian Licensing Conference 2026 (Гонконг, Китай)
DESCRIPTION:Крупнейшая в Азии ежегодная конференция, посвященная лицензированию. На одной площадке соберутся ведущие игроки международного лицензионного рынка: владельцы брендов, международные лицензионные агентства, лицензиаты.
LOCATION:Hong Kong Convention & Exhibition Centre (Китай, Гонконг)
END:VEVENT
END:VCALENDAR