BEGIN:VCALENDAR
VERSION:2.0
PRODID:-//TotalExpo.ru v1.0//EN
BEGIN:VEVENT
DTSTAMP:20261006T120000
DTSTART:20261006T070000Z
DTEND:20261008T140000Z
SUMMARY:MEGUSTRO 2026 (Санкт-Петербург, Россия)
DESCRIPTION:MEGUSTRO — это место, где встречается вся индустрия HORECA для того, чтобы получить вдохновение и обменяться опытом. Это крупнейшее профессиональное мероприятие для ресторанного бизнеса в Санкт-Петербурге. 
LOCATION:Design District DAA (Россия, Санкт-Петербург)
END:VEVENT
END:VCALENDAR