BEGIN:VCALENDAR
VERSION:2.0
PRODID:-//TotalExpo.ru v1.0//EN
BEGIN:VEVENT
DTSTAMP:20260812T120000
DTSTART:20260812T070000Z
DTEND:20260814T140000Z
SUMMARY:World of Concrete Asia 2026 (Шанхай, Китай)
DESCRIPTION:Специализированная выставка бетонной и цементной промышленности, входящая в одноименную сеть выставок, проходящих в разных странах мира. Более 900 участников из Китая и многих других стран мира продемонстрируют последние новинки и технологии индустрии.
LOCATION:Shanghai New International Expo Centre (Китай, Шанхай)
END:VEVENT
END:VCALENDAR