BEGIN:VCALENDAR
VERSION:2.0
PRODID:-//TotalExpo.ru v1.0//EN
BEGIN:VEVENT
DTSTAMP:20251211T120000
DTSTART:20251211T070000Z
DTEND:20251213T140000Z
SUMMARY:TIM Expo Shanghai 2025 (Шанхай, Китай)
DESCRIPTION:Крупнейшая в Азиатско-тихоокеанском регионе выставка изоляционных материалов. В экспозиции представлены термоизоляционные, звукоизоляционные и водонепроницаемые материалы, а также связанная с ними продукция для различных отраслей промышленности. 
LOCATION:Shanghai New International Expo Centre (Китай, Шанхай)
END:VEVENT
END:VCALENDAR