BEGIN:VCALENDAR
VERSION:2.0
PRODID:-//TotalExpo.ru v1.0//EN
BEGIN:VEVENT
DTSTAMP:20260427T120000
DTSTART:20260427T070000Z
DTEND:20260430T140000Z
SUMMARY:Global Sources Fashion 2026 (Гонконг, Китай)
DESCRIPTION:Крупнейшая в Гонконге выставка для поставщиков модной одежды и аксессуаров. Более 1800 участников представляют ткани, аксессуары, готовую одежду, сумки, обувь, спортивную одежду и товары для активного образа жизни. В мероприятии принимают участие производители из Китая, Кореи, Индии Вьетнама и ряда других стран. 
LOCATION:AsiaWorld - Expo (Китай, Гонконг)
END:VEVENT
END:VCALENDAR