BEGIN:VCALENDAR
VERSION:2.0
PRODID:-//TotalExpo.ru v1.0//EN
BEGIN:VEVENT
DTSTAMP:20260506T120000
DTSTART:20260506T070000Z
DTEND:20260508T140000Z
SUMMARY:Build4Asia 2026 (Гонконг, Китай)
DESCRIPTION:Выставка современных технологий в строительстве. Включает в себя три больших тематических экспозиции: Asian Elenex - проектирование электросетей и систем освещения, Build4Asia - строительные технологии, материалы и отделка, Asian Securitex - системы безопасности зданий и сооружений. Ожидается более 500 участников и 12000 посетителей. 
LOCATION:AsiaWorld - Expo (Китай, Гонконг)
END:VEVENT
END:VCALENDAR